BEGIN:VCALENDAR
VERSION:2.0
PRODID:-//Spalding University - ECPv6.15.20//NONSGML v1.0//EN
CALSCALE:GREGORIAN
METHOD:PUBLISH
X-ORIGINAL-URL:https://spalding.edu
X-WR-CALDESC:Events for Spalding University
REFRESH-INTERVAL;VALUE=DURATION:PT1H
X-Robots-Tag:noindex
X-PUBLISHED-TTL:PT1H
BEGIN:VTIMEZONE
TZID:America/New_York
BEGIN:DAYLIGHT
TZOFFSETFROM:-0500
TZOFFSETTO:-0400
TZNAME:EDT
DTSTART:20240310T070000
END:DAYLIGHT
BEGIN:STANDARD
TZOFFSETFROM:-0400
TZOFFSETTO:-0500
TZNAME:EST
DTSTART:20241103T060000
END:STANDARD
BEGIN:DAYLIGHT
TZOFFSETFROM:-0500
TZOFFSETTO:-0400
TZNAME:EDT
DTSTART:20250309T070000
END:DAYLIGHT
BEGIN:STANDARD
TZOFFSETFROM:-0400
TZOFFSETTO:-0500
TZNAME:EST
DTSTART:20251102T060000
END:STANDARD
BEGIN:DAYLIGHT
TZOFFSETFROM:-0500
TZOFFSETTO:-0400
TZNAME:EDT
DTSTART:20260308T070000
END:DAYLIGHT
BEGIN:STANDARD
TZOFFSETFROM:-0400
TZOFFSETTO:-0500
TZNAME:EST
DTSTART:20261101T060000
END:STANDARD
END:VTIMEZONE
BEGIN:VEVENT
DTSTART;TZID=America/New_York:20250501T080000
DTEND;TZID=America/New_York:20250501T170000
DTSTAMP:20260420T012026
CREATED:20250204T215526Z
LAST-MODIFIED:20250403T154043Z
UID:10000198-1746086400-1746118800@spalding.edu
SUMMARY:Future Eagle Gatherings - Virtual 5/1/2025
DESCRIPTION:Congratulations on your admission to Spalding University! Your journey as a Spalding Eagle is about to begin\, and we want to help you feel at home before your first day on campus. Future Eagle Gatherings are exclusive events designed for admitted students like you to connect\, explore\, and experience the Spalding community firsthand.
URL:https://spalding.edu/events/future-eagle-gatherings-virtual-2/
LOCATION:KY
CATEGORIES:Admissions
END:VEVENT
BEGIN:VEVENT
DTSTART;VALUE=DATE:20250505
DTEND;VALUE=DATE:20250506
DTSTAMP:20260420T012026
CREATED:20250317T192635Z
LAST-MODIFIED:20260203T214121Z
UID:10000214-1746403200-1746489599@spalding.edu
SUMMARY:Auerbach School of Occupational Therapy DPAM Workshop
DESCRIPTION:Deep Physical Agent Modalities for OT Practitioners\nSix weeks of online units and onsite lab demonstration and supervised competency check-offs. This course is designed specifically for occupational therapy practitioners to the standards outlined in Kentucky Administration Regulation 201KAR28:170. The course will cover therapeutic ultrasound\, electrical stimulation\, muscle re-education\, TENS\, Iontophoresis\, wound healing/pain theory and edema control. \nThe course begins with didactic online Monday\, May 5\, 2025. \nRegistration open through 4/30/2025 12:00 PM EST. \nCost Including Text Book\nCurrent ASOT Students: $320.00\nASOT Alumnus/Alumna: $370.00\nOTR/L & COTA/L: $470.00\nNo refunds given after the course begins Monday\, May 5\, 2025 \nRegister for the May 5th DPAM CEU workshop
URL:https://spalding.edu/events/asot-dpam-5-5-25/
LOCATION:Room 120 – Kosair Charities College of Health & Natural Sciences\, 901 S. Third Street\, LOUISVILLE\, KY\, 40203-2215
CATEGORIES:Continuing Education,Graduate,Occupational Therapy,Post-Professional OTD
END:VEVENT
BEGIN:VEVENT
DTSTART;TZID=America/New_York:20250514T120000
DTEND;TZID=America/New_York:20250514T130000
DTSTAMP:20260420T012026
CREATED:20250410T181438Z
LAST-MODIFIED:20260203T211554Z
UID:10000217-1747224000-1747227600@spalding.edu
SUMMARY:Virtual Info Session: Naslund-Mann Graduate School of Writing
DESCRIPTION:Wednesday\, May 14 at 12:00 noon Eastern / 9:00 AM Pacific\nMany writers dream of pursuing an MFA\, MAW\, or certificate in creative writing. But how do you know if a graduate program is right for you? Register now for a free\, hour-long info session with Kathleen Driskell\, Chair of the Naslund-Mann Graduate School of Writing\, and Karen Mann\, co-founder of the Spalding MFA program\, for a free info session over Zoom. Register now!
URL:https://spalding.edu/events/info-session-writing-5-14-25/
LOCATION:KY
CATEGORIES:Graduate,Graduate Certificate in Writing,Info Session,MA in Writing,MFA in Writing,Naslund-Mann School of Writing,Post-master’s Certificate
END:VEVENT
BEGIN:VEVENT
DTSTART;TZID=America/New_York:20250515T170000
DTEND;TZID=America/New_York:20250515T203000
DTSTAMP:20260420T012026
CREATED:20250403T165629Z
LAST-MODIFIED:20260203T213855Z
UID:10000216-1747328400-1747341000@spalding.edu
SUMMARY:Transfer Admitted Student Night
DESCRIPTION:This event is designed to equip Spalding’s Transfer Students with resources to succeed as they begin classes this year. Students can expect to receive a free instant credit evaluation\, to visit the academic department fair\, to hear from financial aid\, to tour campus\, and to receive course registration assistance! \nLoading…
URL:https://spalding.edu/events/transfer-admitted-student-night/
LOCATION:Egan Leadership Center\, 901 S. Fourth Street\, Louisville\, KY\, 40203\, United States
CATEGORIES:Admissions,Admissions Special Events,Transfer Students
END:VEVENT
BEGIN:VEVENT
DTSTART;TZID=America/New_York:20250523T120000
DTEND;TZID=America/New_York:20250523T130000
DTSTAMP:20260420T012026
CREATED:20250205T175915Z
LAST-MODIFIED:20260203T213702Z
UID:10000202-1748001600-1748005200@spalding.edu
SUMMARY:Virtual Info Session: School of Business Graduate Programs
DESCRIPTION:Register for the May 23rd virtual info session to learn more about our School of Business Graduate programs. \nLoading…
URL:https://spalding.edu/events/info-session-grad-business-5-23-25/
LOCATION:KY
CATEGORIES:Graduate,Info Session,MBA,MSM
END:VEVENT
END:VCALENDAR