BEGIN:VCALENDAR
VERSION:2.0
PRODID:-//Spalding University - ECPv6.15.20//NONSGML v1.0//EN
CALSCALE:GREGORIAN
METHOD:PUBLISH
X-WR-CALNAME:Spalding University
X-ORIGINAL-URL:https://spalding.edu
X-WR-CALDESC:Events for Spalding University
REFRESH-INTERVAL;VALUE=DURATION:PT1H
X-Robots-Tag:noindex
X-PUBLISHED-TTL:PT1H
BEGIN:VTIMEZONE
TZID:America/New_York
BEGIN:DAYLIGHT
TZOFFSETFROM:-0500
TZOFFSETTO:-0400
TZNAME:EDT
DTSTART:20240310T070000
END:DAYLIGHT
BEGIN:STANDARD
TZOFFSETFROM:-0400
TZOFFSETTO:-0500
TZNAME:EST
DTSTART:20241103T060000
END:STANDARD
BEGIN:DAYLIGHT
TZOFFSETFROM:-0500
TZOFFSETTO:-0400
TZNAME:EDT
DTSTART:20250309T070000
END:DAYLIGHT
BEGIN:STANDARD
TZOFFSETFROM:-0400
TZOFFSETTO:-0500
TZNAME:EST
DTSTART:20251102T060000
END:STANDARD
BEGIN:DAYLIGHT
TZOFFSETFROM:-0500
TZOFFSETTO:-0400
TZNAME:EDT
DTSTART:20260308T070000
END:DAYLIGHT
BEGIN:STANDARD
TZOFFSETFROM:-0400
TZOFFSETTO:-0500
TZNAME:EST
DTSTART:20261101T060000
END:STANDARD
END:VTIMEZONE
BEGIN:VEVENT
DTSTART;TZID=America/New_York:20250306T080000
DTEND;TZID=America/New_York:20250306T170000
DTSTAMP:20260420T012016
CREATED:20250204T214530Z
LAST-MODIFIED:20250403T154105Z
UID:10000135-1741248000-1741280400@spalding.edu
SUMMARY:Future Eagle Gatherings - In-Person 3/6/2025
DESCRIPTION:Congratulations on your admission to Spalding University! Your journey as a Spalding Eagle is about to begin\, and we want to help you feel at home before your first day on campus. Future Eagle Gatherings are exclusive events designed for admitted students like you to connect\, explore\, and experience the Spalding community firsthand.
URL:https://spalding.edu/events/future-eagle-gatherings-in-person-2/
LOCATION:KY
CATEGORIES:Admissions
END:VEVENT
BEGIN:VEVENT
DTSTART;TZID=America/New_York:20250306T120000
DTEND;TZID=America/New_York:20250306T130000
DTSTAMP:20260420T012016
CREATED:20241216T181532Z
LAST-MODIFIED:20260203T211840Z
UID:10000193-1741262400-1741266000@spalding.edu
SUMMARY:Virtual Info Session: Naslund-Mann Graduate School of Writing
DESCRIPTION:Should you come to campus for in-person residencies\, attend virtual residencies from home\, or try both options during your low-residency MFA or MA in Writing? Learn about the possibilities when you join this free\, hourlong virtual info session with Kathleen Driskell\, Chair of the Naslund-Mann Graduate School of Writing and past Chair of the Board of AWP. You’ll meet on Zoom\, Thursday\, March 6\, at noon Eastern / 9 a.m. Pacific. Register now!
URL:https://spalding.edu/events/info-session-writing-3-6-25/
LOCATION:KY
CATEGORIES:Graduate,Info Session,MA in Writing,MFA in Writing,Naslund-Mann School of Writing
END:VEVENT
END:VCALENDAR