BEGIN:VCALENDAR
VERSION:2.0
PRODID:-//Spalding University - ECPv6.15.20//NONSGML v1.0//EN
CALSCALE:GREGORIAN
METHOD:PUBLISH
X-WR-CALNAME:Spalding University
X-ORIGINAL-URL:https://spalding.edu
X-WR-CALDESC:Events for Spalding University
REFRESH-INTERVAL;VALUE=DURATION:PT1H
X-Robots-Tag:noindex
X-PUBLISHED-TTL:PT1H
BEGIN:VTIMEZONE
TZID:America/New_York
BEGIN:DAYLIGHT
TZOFFSETFROM:-0500
TZOFFSETTO:-0400
TZNAME:EDT
DTSTART:20240310T070000
END:DAYLIGHT
BEGIN:STANDARD
TZOFFSETFROM:-0400
TZOFFSETTO:-0500
TZNAME:EST
DTSTART:20241103T060000
END:STANDARD
BEGIN:DAYLIGHT
TZOFFSETFROM:-0500
TZOFFSETTO:-0400
TZNAME:EDT
DTSTART:20250309T070000
END:DAYLIGHT
BEGIN:STANDARD
TZOFFSETFROM:-0400
TZOFFSETTO:-0500
TZNAME:EST
DTSTART:20251102T060000
END:STANDARD
BEGIN:DAYLIGHT
TZOFFSETFROM:-0500
TZOFFSETTO:-0400
TZNAME:EDT
DTSTART:20260308T070000
END:DAYLIGHT
BEGIN:STANDARD
TZOFFSETFROM:-0400
TZOFFSETTO:-0500
TZNAME:EST
DTSTART:20261101T060000
END:STANDARD
END:VTIMEZONE
BEGIN:VEVENT
DTSTART;TZID=America/New_York:20251208T120000
DTEND;TZID=America/New_York:20251208T160000
DTSTAMP:20260420T034843
CREATED:20250721T192716Z
LAST-MODIFIED:20251006T162221Z
UID:10000231-1765195200-1765209600@spalding.edu
SUMMARY:Virtual Info Session: School of Business MBA Program
DESCRIPTION:Some Test Content Here
URL:https://spalding.edu/events/info-session-grad-business-8-8-25/
CATEGORIES:Graduate,Info Session,MBA
ATTACH;FMTTYPE=image/jpeg:https://spalding.edu/wp-content/uploads/2024/11/RL4_585x436.jpg
END:VEVENT
END:VCALENDAR