BEGIN:VCALENDAR
VERSION:2.0
PRODID:-//Spalding University - ECPv6.15.20//NONSGML v1.0//EN
CALSCALE:GREGORIAN
METHOD:PUBLISH
X-WR-CALNAME:Spalding University
X-ORIGINAL-URL:https://spalding.edu
X-WR-CALDESC:Events for Spalding University
REFRESH-INTERVAL;VALUE=DURATION:PT1H
X-Robots-Tag:noindex
X-PUBLISHED-TTL:PT1H
BEGIN:VTIMEZONE
TZID:America/New_York
BEGIN:DAYLIGHT
TZOFFSETFROM:-0500
TZOFFSETTO:-0400
TZNAME:EDT
DTSTART:20240310T070000
END:DAYLIGHT
BEGIN:STANDARD
TZOFFSETFROM:-0400
TZOFFSETTO:-0500
TZNAME:EST
DTSTART:20241103T060000
END:STANDARD
BEGIN:DAYLIGHT
TZOFFSETFROM:-0500
TZOFFSETTO:-0400
TZNAME:EDT
DTSTART:20250309T070000
END:DAYLIGHT
BEGIN:STANDARD
TZOFFSETFROM:-0400
TZOFFSETTO:-0500
TZNAME:EST
DTSTART:20251102T060000
END:STANDARD
BEGIN:DAYLIGHT
TZOFFSETFROM:-0500
TZOFFSETTO:-0400
TZNAME:EDT
DTSTART:20260308T070000
END:DAYLIGHT
BEGIN:STANDARD
TZOFFSETFROM:-0400
TZOFFSETTO:-0500
TZNAME:EST
DTSTART:20261101T060000
END:STANDARD
END:VTIMEZONE
BEGIN:VEVENT
DTSTART;VALUE=DATE:20250203
DTEND;VALUE=DATE:20250204
DTSTAMP:20260419T111544
CREATED:20250110T152302Z
LAST-MODIFIED:20250110T152307Z
UID:10000195-1738540800-1738627199@spalding.edu
SUMMARY:Auerbach School of Occupational Therapy DPAM Workshop
DESCRIPTION:[et_pb_section fb_built=”1″ disabled_on=”off|off|off” admin_label=”SECTION: **empty**  |  Event Info  |  **hidden**” module_class=”gen-body light-gray no-pad-bot” _builder_version=”4.24.2″ _module_preset=”default” collapsed=”off” global_colors_info=”{}”][et_pb_row column_structure=”1_5\,3_5\,1_5″ admin_label=”ROW: **empty** | Event Info | **hidden**” module_class=”no-pad-bot” _builder_version=”4.24.2″ _module_preset=”default” collapsed=”off” global_colors_info=”{}”][et_pb_column type=”1_5″ module_class=”aside-btns-col” _builder_version=”4.22.1″ _module_preset=”default” global_colors_info=”{}” custom_css_main_element_last_edited=”on|phone” custom_css_main_element_tablet=”display: none;” custom_css_main_element_phone=”display: none;”][/et_pb_column][et_pb_column type=”3_5″ _builder_version=”4.16″ _module_preset=”default” global_colors_info=”{}”][et_pb_text admin_label=”TEXT %91h2%93: Deep Physical Agent Modalities for OT Practitioners” _builder_version=”4.24.2″ background_size=”initial” background_position=”top_left” background_repeat=”repeat” global_colors_info=”{}”] \nDeep Physical Agent Modalities for OT Practitioners\n[/et_pb_text][et_pb_text admin_label=”TEXT: Registration open . . .” module_class=”no-mar-bot” _builder_version=”4.27.4″ background_size=”initial” background_position=”top_left” background_repeat=”repeat” hover_enabled=”0″ global_colors_info=”{}” sticky_enabled=”0″] \nSix weeks of online units and onsite lab demonstration and supervised competency check-offs. This course is designed specifically for occupational therapy practitioners to the standards outlined in Kentucky Administration Regulation 201KAR28:170. The course will cover therapeutic ultrasound\, electrical stimulation\, muscle re-education\, TENS\, Iontophoresis\, wound healing/pain theory and edema control. \n[/et_pb_text][et_pb_text admin_label=”TEXT: The course begins . . .” module_class=”no-mar-bot” _builder_version=”4.27.4″ background_size=”initial” background_position=”top_left” background_repeat=”repeat” hover_enabled=”0″ global_colors_info=”{}” sticky_enabled=”0″] \nThe course begins with didactic online Monday\, February 3\, 2025. \n[/et_pb_text][et_pb_text admin_label=”TEXT: Registration . . . %91strong%93″ module_class=”no-mar-bot” _builder_version=”4.27.4″ background_size=”initial” background_position=”top_left” background_repeat=”repeat” hover_enabled=”0″ global_colors_info=”{}” sticky_enabled=”0″] \nRegistration open through 1/29/2025 12:00 PM EST. \n[/et_pb_text][et_pb_text admin_label=”TEXT %91h3%93: Cost Including Text Book” module_class=”navy-txt” _builder_version=”4.24.2″ background_size=”initial” background_position=”top_left” background_repeat=”repeat” hover_enabled=”0″ global_colors_info=”{}” sticky_enabled=”0″] \nCost Including Text Book\n[/et_pb_text][et_pb_text admin_label=”TEXT: Price Listings” module_class=”no-mar-bot” _builder_version=”4.27.4″ background_size=”initial” background_position=”top_left” background_repeat=”repeat” hover_enabled=”0″ global_colors_info=”{}” sticky_enabled=”0″] \nCurrent ASOT Students: $320.00\nASOT Alumnus/Alumna: $370.00\nOTR/L & COTA/L: $470.00\nNo refunds given after the course begins Monday\, May 6\, 2024 \n[/et_pb_text][et_pb_text admin_label=”TEXT: Register for the May 6th DPAM CEU workshop %91link%93″ module_class=”no-mar-bot” _builder_version=”4.27.4″ background_size=”initial” background_position=”top_left” background_repeat=”repeat” hover_enabled=”0″ global_colors_info=”{}” sticky_enabled=”0″] \nRegister for the February 3rd DPAM CEU workshop \n[/et_pb_text][/et_pb_column][et_pb_column type=”1_5″ module_class=”rby-btns-col” disabled_on=”on|on|on” _builder_version=”4.24.2″ _module_preset=”default” sticky_position=”top” sticky_offset_top=”100px” sticky_limit_bottom=”section” sticky_position_tablet=”none” sticky_position_phone=”none” sticky_position_last_edited=”on|desktop” disabled=”on” global_colors_info=”{}” custom_css_main_element_last_edited=”on|tablet” custom_css_main_element_tablet=”display: flex;||flex-direction: column;||position: fixed;||bottom: 0;||right: 35px;||width: 225px !important;” custom_css_main_element_phone=”display: flex;||flex-direction: column;||position: fixed;||bottom: 0;||right: -5px;||width: 120px !important;”][et_pb_button button_url=”/apply/” button_text=”Apply” admin_label=”BUTTON: Apply” module_class=”apply white-txt red-bg darker-red-bg-hov” _builder_version=”4.21.0″ _module_preset=”default” custom_button=”on” button_use_icon=”off” global_colors_info=”{}”][/et_pb_button][et_pb_button button_url=”/request-information/” button_text=”Request Info” admin_label=”BUTTON : Request Info” module_class=”request-info white-txt blue-bg darker-blue-bg-hov” _builder_version=”4.21.0″ _module_preset=”default” custom_button=”on” button_use_icon=”off” global_colors_info=”{}”][/et_pb_button][et_pb_button button_url=”/visit/” button_text=”Visit Us” admin_label=”BUTTON: Visit Us” module_class=”visit-us navy-txt yellow-bg darker-yellow-bg-hov” _builder_version=”4.21.0″ _module_preset=”default” custom_button=”on” button_use_icon=”off” global_colors_info=”{}”][/et_pb_button][/et_pb_column][/et_pb_row][/et_pb_section]
URL:https://spalding.edu/events/asot-dpam-2-3-25/
LOCATION:KY
CATEGORIES:Continuing Education,Graduate,Occupational Therapy,Post-Professional OTD
END:VEVENT
BEGIN:VEVENT
DTSTART;TZID=America/New_York:20250211T160000
DTEND;TZID=America/New_York:20250211T170000
DTSTAMP:20260419T111544
CREATED:20250203T144404Z
LAST-MODIFIED:20250203T161129Z
UID:10000128-1739289600-1739293200@spalding.edu
SUMMARY:Virtual Info Session: Entry-Level OTD
DESCRIPTION:[et_pb_section fb_built=”1″ disabled_on=”off|off|off” admin_label=”SECTION: **empty**  |  Event Info  |  **hidden**” module_class=”gen-body light-gray no-pad-bot” _builder_version=”4.24.2″ _module_preset=”default” collapsed=”off” global_colors_info=”{}”][et_pb_row column_structure=”1_5\,3_5\,1_5″ admin_label=”ROW: **empty** | Event Info | **hidden**” module_class=”no-pad-bot” _builder_version=”4.24.2″ _module_preset=”default” collapsed=”off” global_colors_info=”{}”][et_pb_column type=”1_5″ module_class=”aside-btns-col” _builder_version=”4.22.1″ _module_preset=”default” global_colors_info=”{}” custom_css_main_element_last_edited=”on|phone” custom_css_main_element_tablet=”display: none;” custom_css_main_element_phone=”display: none;”][/et_pb_column][et_pb_column type=”3_5″ _builder_version=”4.16″ _module_preset=”default” global_colors_info=”{}”][et_pb_text admin_label=”TEXT: Register for the May 14th . . .” _builder_version=”4.27.4″ background_size=”initial” background_position=”top_left” background_repeat=”repeat” global_colors_info=”{}”] \nPlease join us at this virtual information session to learn more about Spalding University’s entry-level Occupational Therapy Doctorate program in the Auerbach School of Occupational Therapy (ASOT). \n[/et_pb_text][et_pb_code module_class=”slate request-info-form rsvp event” _builder_version=”4.27.4″ _module_preset=”default” hover_enabled=”0″ global_colors_info=”{}” sticky_enabled=”0″] \nLoading…\n[/et_pb_code][/et_pb_column][et_pb_column type=”1_5″ module_class=”rby-btns-col” disabled_on=”on|on|on” _builder_version=”4.24.2″ _module_preset=”default” sticky_position=”top” sticky_offset_top=”100px” sticky_limit_bottom=”section” sticky_position_tablet=”none” sticky_position_phone=”none” sticky_position_last_edited=”on|desktop” disabled=”on” global_colors_info=”{}” custom_css_main_element_last_edited=”on|tablet” custom_css_main_element_tablet=”display: flex;||flex-direction: column;||position: fixed;||bottom: 0;||right: 35px;||width: 225px !important;” custom_css_main_element_phone=”display: flex;||flex-direction: column;||position: fixed;||bottom: 0;||right: -5px;||width: 120px !important;”][et_pb_button button_url=”/apply/” button_text=”Apply” admin_label=”BUTTON: Apply” module_class=”apply white-txt red-bg darker-red-bg-hov” _builder_version=”4.21.0″ _module_preset=”default” custom_button=”on” button_use_icon=”off” global_colors_info=”{}”][/et_pb_button][et_pb_button button_url=”/request-information/” button_text=”Request Info” admin_label=”BUTTON : Request Info” module_class=”request-info white-txt blue-bg darker-blue-bg-hov” _builder_version=”4.21.0″ _module_preset=”default” custom_button=”on” button_use_icon=”off” global_colors_info=”{}”][/et_pb_button][et_pb_button button_url=”/visit/” button_text=”Visit Us” admin_label=”BUTTON: Visit Us” module_class=”visit-us navy-txt yellow-bg darker-yellow-bg-hov” _builder_version=”4.21.0″ _module_preset=”default” custom_button=”on” button_use_icon=”off” global_colors_info=”{}”][/et_pb_button][/et_pb_column][/et_pb_row][/et_pb_section]
URL:https://spalding.edu/events/info-session-entry-level-otd-2-11-25/
LOCATION:KY
CATEGORIES:Entry-Level OTD,Graduate,Info Session,Occupational Therapy
END:VEVENT
BEGIN:VEVENT
DTSTART;TZID=America/New_York:20250227T170000
DTEND;TZID=America/New_York:20250227T180000
DTSTAMP:20260419T111544
CREATED:20250211T191715Z
LAST-MODIFIED:20250211T191720Z
UID:10000209-1740675600-1740679200@spalding.edu
SUMMARY:Virtual Info Session: MSN-PMHNP
DESCRIPTION:[et_pb_section fb_built=”1″ disabled_on=”off|off|off” admin_label=”SECTION: **empty**  |  Event Info  |  **hidden**” module_class=”gen-body light-gray no-pad-bot” _builder_version=”4.24.2″ _module_preset=”default” collapsed=”off” global_colors_info=”{}”][et_pb_row column_structure=”1_5\,3_5\,1_5″ admin_label=”ROW: **empty** | Event Info | **hidden**” module_class=”no-pad-bot” _builder_version=”4.24.2″ _module_preset=”default” collapsed=”off” global_colors_info=”{}”][et_pb_column type=”1_5″ module_class=”aside-btns-col” _builder_version=”4.22.1″ _module_preset=”default” global_colors_info=”{}” custom_css_main_element_last_edited=”on|phone” custom_css_main_element_tablet=”display: none;” custom_css_main_element_phone=”display: none;”][/et_pb_column][et_pb_column type=”3_5″ _builder_version=”4.16″ _module_preset=”default” global_colors_info=”{}”][et_pb_text _builder_version=”4.27.4″ background_size=”initial” background_position=”top_left” background_repeat=”repeat” global_colors_info=”{}”] \nRegister for the February 27th virtual info session to learn more about our Master of Science in Nursing as a Psychiatric Mental Health Nurse Practitioner program. \n[/et_pb_text][et_pb_code module_class=”request-info-form slate event rsvp” _builder_version=”4.27.4″ _module_preset=”default” global_colors_info=”{}”] \nLoading…\n[/et_pb_code][/et_pb_column][et_pb_column type=”1_5″ module_class=”rby-btns-col” disabled_on=”on|on|on” _builder_version=”4.24.2″ _module_preset=”default” sticky_position=”top” sticky_offset_top=”100px” sticky_limit_bottom=”section” sticky_position_tablet=”none” sticky_position_phone=”none” sticky_position_last_edited=”on|desktop” disabled=”on” global_colors_info=”{}” custom_css_main_element_last_edited=”on|tablet” custom_css_main_element_tablet=”display: flex;||flex-direction: column;||position: fixed;||bottom: 0;||right: 35px;||width: 225px !important;” custom_css_main_element_phone=”display: flex;||flex-direction: column;||position: fixed;||bottom: 0;||right: -5px;||width: 120px !important;”][et_pb_button button_url=”/apply/” button_text=”Apply” admin_label=”BUTTON: Apply” module_class=”apply white-txt red-bg darker-red-bg-hov” _builder_version=”4.21.0″ _module_preset=”default” custom_button=”on” button_use_icon=”off” global_colors_info=”{}”][/et_pb_button][et_pb_button button_url=”/request-information/” button_text=”Request Info” admin_label=”BUTTON : Request Info” module_class=”request-info white-txt blue-bg darker-blue-bg-hov” _builder_version=”4.21.0″ _module_preset=”default” custom_button=”on” button_use_icon=”off” global_colors_info=”{}”][/et_pb_button][et_pb_button button_url=”/visit/” button_text=”Visit Us” admin_label=”BUTTON: Visit Us” module_class=”visit-us navy-txt yellow-bg darker-yellow-bg-hov” _builder_version=”4.21.0″ _module_preset=”default” custom_button=”on” button_use_icon=”off” global_colors_info=”{}”][/et_pb_button][/et_pb_column][/et_pb_row][/et_pb_section]
URL:https://spalding.edu/events/info-session-msn-pmhnp-2-27-25/
LOCATION:KY
CATEGORIES:Graduate,Info Session,MSN,MSN-PMHNP,Nursing
END:VEVENT
BEGIN:VEVENT
DTSTART;TZID=America/New_York:20250228T110000
DTEND;TZID=America/New_York:20250228T120000
DTSTAMP:20260419T111544
CREATED:20250211T190723Z
LAST-MODIFIED:20250211T190731Z
UID:10000208-1740740400-1740744000@spalding.edu
SUMMARY:Virtual Info Session: MSN-FNP
DESCRIPTION:[et_pb_section fb_built=”1″ disabled_on=”off|off|off” admin_label=”SECTION: **empty**  |  Event Info  |  **hidden**” module_class=”gen-body light-gray no-pad-bot” _builder_version=”4.24.2″ _module_preset=”default” collapsed=”off” global_colors_info=”{}”][et_pb_row column_structure=”1_5\,3_5\,1_5″ admin_label=”ROW: **empty** | Event Info | **hidden**” module_class=”no-pad-bot” _builder_version=”4.24.2″ _module_preset=”default” collapsed=”off” global_colors_info=”{}”][et_pb_column type=”1_5″ module_class=”aside-btns-col” _builder_version=”4.22.1″ _module_preset=”default” global_colors_info=”{}” custom_css_main_element_last_edited=”on|phone” custom_css_main_element_tablet=”display: none;” custom_css_main_element_phone=”display: none;”][/et_pb_column][et_pb_column type=”3_5″ _builder_version=”4.16″ _module_preset=”default” global_colors_info=”{}”][et_pb_text _builder_version=”4.27.4″ background_size=”initial” background_position=”top_left” background_repeat=”repeat” hover_enabled=”0″ global_colors_info=”{}” sticky_enabled=”0″] \nRegister for the February 28th virtual info session to learn more about our Master of Science in Nursing as a Family Practitioner program. \n[/et_pb_text][et_pb_code module_class=”request-info-form slate event rsvp” _builder_version=”4.27.4″ _module_preset=”default” hover_enabled=”0″ global_colors_info=”{}” sticky_enabled=”0″] \nLoading…\n[/et_pb_code][/et_pb_column][et_pb_column type=”1_5″ module_class=”rby-btns-col” disabled_on=”on|on|on” _builder_version=”4.24.2″ _module_preset=”default” sticky_position=”top” sticky_offset_top=”100px” sticky_limit_bottom=”section” sticky_position_tablet=”none” sticky_position_phone=”none” sticky_position_last_edited=”on|desktop” disabled=”on” global_colors_info=”{}” custom_css_main_element_last_edited=”on|tablet” custom_css_main_element_tablet=”display: flex;||flex-direction: column;||position: fixed;||bottom: 0;||right: 35px;||width: 225px !important;” custom_css_main_element_phone=”display: flex;||flex-direction: column;||position: fixed;||bottom: 0;||right: -5px;||width: 120px !important;”][et_pb_button button_url=”/apply/” button_text=”Apply” admin_label=”BUTTON: Apply” module_class=”apply white-txt red-bg darker-red-bg-hov” _builder_version=”4.21.0″ _module_preset=”default” custom_button=”on” button_use_icon=”off” global_colors_info=”{}”][/et_pb_button][et_pb_button button_url=”/request-information/” button_text=”Request Info” admin_label=”BUTTON : Request Info” module_class=”request-info white-txt blue-bg darker-blue-bg-hov” _builder_version=”4.21.0″ _module_preset=”default” custom_button=”on” button_use_icon=”off” global_colors_info=”{}”][/et_pb_button][et_pb_button button_url=”/visit/” button_text=”Visit Us” admin_label=”BUTTON: Visit Us” module_class=”visit-us navy-txt yellow-bg darker-yellow-bg-hov” _builder_version=”4.21.0″ _module_preset=”default” custom_button=”on” button_use_icon=”off” global_colors_info=”{}”][/et_pb_button][/et_pb_column][/et_pb_row][/et_pb_section]
URL:https://spalding.edu/events/info-session-msn-fnp-2-28-25/
LOCATION:KY
CATEGORIES:Graduate,Info Session,MSN,MSN-FNP,Nursing
END:VEVENT
END:VCALENDAR