BEGIN:VCALENDAR
VERSION:2.0
PRODID:-//Spalding University - ECPv6.15.20//NONSGML v1.0//EN
CALSCALE:GREGORIAN
METHOD:PUBLISH
X-ORIGINAL-URL:https://spalding.edu
X-WR-CALDESC:Events for Spalding University
REFRESH-INTERVAL;VALUE=DURATION:PT1H
X-Robots-Tag:noindex
X-PUBLISHED-TTL:PT1H
BEGIN:VTIMEZONE
TZID:America/New_York
BEGIN:DAYLIGHT
TZOFFSETFROM:-0500
TZOFFSETTO:-0400
TZNAME:EDT
DTSTART:20240310T070000
END:DAYLIGHT
BEGIN:STANDARD
TZOFFSETFROM:-0400
TZOFFSETTO:-0500
TZNAME:EST
DTSTART:20241103T060000
END:STANDARD
BEGIN:DAYLIGHT
TZOFFSETFROM:-0500
TZOFFSETTO:-0400
TZNAME:EDT
DTSTART:20250309T070000
END:DAYLIGHT
BEGIN:STANDARD
TZOFFSETFROM:-0400
TZOFFSETTO:-0500
TZNAME:EST
DTSTART:20251102T060000
END:STANDARD
BEGIN:DAYLIGHT
TZOFFSETFROM:-0500
TZOFFSETTO:-0400
TZNAME:EDT
DTSTART:20260308T070000
END:DAYLIGHT
BEGIN:STANDARD
TZOFFSETFROM:-0400
TZOFFSETTO:-0500
TZNAME:EST
DTSTART:20261101T060000
END:STANDARD
END:VTIMEZONE
BEGIN:VEVENT
DTSTART;TZID=America/New_York:20250410T160000
DTEND;TZID=America/New_York:20250410T190000
DTSTAMP:20260419T111423
CREATED:20250203T185710Z
LAST-MODIFIED:20260203T214926Z
UID:10000129-1744300800-1744311600@spalding.edu
SUMMARY:School of Nursing Undergraduate Open House
DESCRIPTION:Join us for Spalding University’s School of Nursing Undergraduate Open House\, which is being held on Thursday\, April 10th from 4pm to 7pm. With flexible in-person and hybrid learning options\, dedicated nursing scholarships funded by the Department of Labor and the Legacy of Kentuckiana Foundation\, and personalized support every step of the way\, there’s never been a better time to pursue your nursing degree at Spalding. We’d love for you to join us and learn how we can help you achieve your nursing goals! \nAll are welcome\, so please bring a friend\, family member\, or coworker who might be interested in advancing their education with you. High school students interested in nursing and looking to map out their academic future are not only invited\, but encouraged to attend as well. \nLight refreshments will be provided + we will raffle off prizes. \nLoading…\n \nContact Us\nSchool of Nursing \nEmail: nursing@spalding.edu \nPhone: (502) 873-4296
URL:https://spalding.edu/events/school-of-nursing-undergraduate-open-house-4-10-25/
LOCATION:Republic Bank Academic Center\, 981 S. Third St. \, Louisville\, KY\, 40203\, United States
CATEGORIES:Accelerated BSN,BSN,Info Session,RN to BSN,Undergraduate
END:VEVENT
END:VCALENDAR